BEGIN:VCALENDAR
VERSION:2.0
PRODID:-//c-icon.art - ECPv6.15.13.1//NONSGML v1.0//EN
CALSCALE:GREGORIAN
METHOD:PUBLISH
X-ORIGINAL-URL:https://c-icon.art
X-WR-CALDESC:Events for c-icon.art
REFRESH-INTERVAL;VALUE=DURATION:PT1H
X-Robots-Tag:noindex
X-PUBLISHED-TTL:PT1H
BEGIN:VTIMEZONE
TZID:UTC
BEGIN:STANDARD
TZOFFSETFROM:+0000
TZOFFSETTO:+0000
TZNAME:UTC
DTSTART:20220101T000000
END:STANDARD
END:VTIMEZONE
BEGIN:VEVENT
DTSTART;TZID=UTC:20231207T180000
DTEND;TZID=UTC:20231207T200000
DTSTAMP:20260422T114535
CREATED:20231120T195522Z
LAST-MODIFIED:20231218T201014Z
UID:5777-1701972000-1701979200@c-icon.art
SUMMARY:Community Ladies' Night
DESCRIPTION:Experience an Evening of Artistic Splendor and Connection at our Exclusive Gathering on December 7th!  We are thrilled to extend a warm and exclusive invitation to an enchanting evening gathering on December 7th at 6 pm. This carefully curated event is designed to foster connections and celebrate the shared love for the arts within our vibrant community of Sea Cliff.   Nestled in an inspiring locale where creativity thrives among talented individuals\, this soirée promises an unforgettable experience. Guests are invited to join us at a captivating workshop generously hosted by the esteemed Lena Zezulin.   This golden opportunity allows attendees to showcase their artistic passion\, share their artwork\, and discover the diverse hobbies of fellow participants. Unleash your creativity\, engage in lively discussions\, and immerse yourself in the wellspring of inspiration that surrounds you.   The evening will be infused with a joyful spirit as we approach the Christmas festive season. Delight in delectable snacks and beverages\, raising a toast to the spirit of creativity and the new connections that will be forged.   Adding a touch of homely warmth\, our party will feature specially prepared home-cooked food crafted with love and care. This will contribute to a unique atmosphere\, creating a sense of coziness and fostering pleasant communication.   The evening’s host\, Anna Semenko\, a Ukrainian-born artist and entrepreneur residing in Sea Cliff since Spring 2022\, will introduce three distinguished guests:   • Irina Filova\, embroidery designer\, specializes in creating original designs that animate clothes and furniture through exquisite embroidery with 40 years of experience in this craft; participant of the project “Talent of the Golden Time” in London\, 51 season. Irina’s work was showcased in Harpers Bazaar magazine 2023;   • Kim Loewe is a highly accomplished NYC-based artist with an MFA from Columbia University. Her work has been exhibited at renowned institutions like the Museum of Modern Art and is featured in prestigious private collections. She has also completed artist residencies and received notable fellowships and awards throughout her career;   • Yelena Kurushko\, an image transformation specialist\, who combines innovative styling with psychological insights to help clients discover and confidently express their personal brand.   Immerse yourself in an evening brimming with art and shared inspiration. Your presence would truly delight us!   Registration is required. Please register and purchase your ticket now!  \n\n  \n\n\n\n Your name*\n \n \n Your email*\n \n \n Your city\n \n \nTicket* ($25)\nPayPal (Button below)Cash\n \n\n \n\n\n Please purchase your ticket online using PayPal\, or let us know if you prefer to buy it with cash upon arrival: 
URL:https://c-icon.art/event/community-ladies-night-2023/
LOCATION:Lena Zezulin – Private House\, 1 Main Avenue\, Sea Cliff\, NY\, 11579\, United States
ATTACH;FMTTYPE=image/jpeg:https://c-icon.art/wp-content/uploads/2023/11/Ladies-Night-7-Dec-2023.jpeg
ORGANIZER;CN="Anna Semenko":MAILTO:ann.strlc@gmail.com
END:VEVENT
BEGIN:VEVENT
DTSTART;VALUE=DATE:20231102
DTEND;VALUE=DATE:20231128
DTSTAMP:20260422T114535
CREATED:20190604T085349Z
LAST-MODIFIED:20231218T201140Z
UID:483-1698883200-1701129599@c-icon.art
SUMMARY:The Beauty During Wartime and Before
DESCRIPTION:Experience an Evening of Artistic Splendor and Connection at our Exclusive Gathering on December 7th!  We are thrilled to extend a warm and exclusive invitation to an enchanting evening gathering on December 7th at 6 pm. This carefully curated event is designed to foster connections and celebrate the shared love for the arts within our vibrant community of Sea Cliff.   Nestled in an inspiring locale where creativity thrives among talented individuals\, this soirée promises an unforgettable experience. Guests are invited to join us at a captivating workshop generously hosted by the esteemed Lena Zezulin.   This golden opportunity allows attendees to showcase their artistic passion\, share their artwork\, and discover the diverse hobbies of fellow participants. Unleash your creativity\, engage in lively discussions\, and immerse yourself in the wellspring of inspiration that surrounds you.   The evening will be infused with a joyful spirit as we approach the Christmas festive season. Delight in delectable snacks and beverages\, raising a toast to the spirit of creativity and the new connections that will be forged.   Adding a touch of homely warmth\, our party will feature specially prepared home-cooked food crafted with love and care. This will contribute to a unique atmosphere\, creating a sense of coziness and fostering pleasant communication.   The evening’s host\, Anna Semenko\, a Ukrainian-born artist and entrepreneur residing in Sea Cliff since Spring 2022\, will introduce three distinguished guests:   • Irina Filova\, embroidery designer\, specializes in creating original designs that animate clothes and furniture through exquisite embroidery with 40 years of experience in this craft; participant of the project “Talent of the Golden Time” in London\, 51 season. Irina’s work was showcased in Harpers Bazaar magazine 2023;   • Kim Loewe is a highly accomplished NYC-based artist with an MFA from Columbia University. Her work has been exhibited at renowned institutions like the Museum of Modern Art and is featured in prestigious private collections. She has also completed artist residencies and received notable fellowships and awards throughout her career;   • Yelena Kurushko\, an image transformation specialist\, who combines innovative styling with psychological insights to help clients discover and confidently express their personal brand.   Immerse yourself in an evening brimming with art and shared inspiration. Your presence would truly delight us!   Registration is required. Please register and purchase your ticket now!  \n\n  \n\n\n\n Your name*\n \n \n Your email*\n \n \n Your city\n \n \nTicket* ($25)\nPayPal (Button below)Cash\n \n\n \n\n\n Please purchase your ticket online using PayPal\, or let us know if you prefer to buy it with cash upon arrival: 
URL:https://c-icon.art/event/beauty-during-wartime-2023/
LOCATION:Sheen Center\, Manhattan\, New York\, 18 Bleecker St\, New York\, NY\, 10012\, United States
CATEGORIES:Invitation
ATTACH;FMTTYPE=image/png:https://c-icon.art/wp-content/uploads/2019/06/Wartime-beauty-02-1.png
END:VEVENT
END:VCALENDAR